BEGIN:VCALENDAR
VERSION:2.0
PRODID:-//Harris County – Houston Sports Authority - ECPv6.13.1//NONSGML v1.0//EN
CALSCALE:GREGORIAN
METHOD:PUBLISH
X-WR-CALNAME:Harris County – Houston Sports Authority
X-ORIGINAL-URL:https://www.houstonsports.org
X-WR-CALDESC:Events for Harris County – Houston Sports Authority
REFRESH-INTERVAL;VALUE=DURATION:PT1H
X-Robots-Tag:noindex
X-PUBLISHED-TTL:PT1H
BEGIN:VTIMEZONE
TZID:America/Chicago
BEGIN:DAYLIGHT
TZOFFSETFROM:-0600
TZOFFSETTO:-0500
TZNAME:CDT
DTSTART:20200308T080000
END:DAYLIGHT
BEGIN:STANDARD
TZOFFSETFROM:-0500
TZOFFSETTO:-0600
TZNAME:CST
DTSTART:20201101T070000
END:STANDARD
BEGIN:DAYLIGHT
TZOFFSETFROM:-0600
TZOFFSETTO:-0500
TZNAME:CDT
DTSTART:20210314T080000
END:DAYLIGHT
BEGIN:STANDARD
TZOFFSETFROM:-0500
TZOFFSETTO:-0600
TZNAME:CST
DTSTART:20211107T070000
END:STANDARD
BEGIN:DAYLIGHT
TZOFFSETFROM:-0600
TZOFFSETTO:-0500
TZNAME:CDT
DTSTART:20220313T080000
END:DAYLIGHT
BEGIN:STANDARD
TZOFFSETFROM:-0500
TZOFFSETTO:-0600
TZNAME:CST
DTSTART:20221106T070000
END:STANDARD
BEGIN:DAYLIGHT
TZOFFSETFROM:-0600
TZOFFSETTO:-0500
TZNAME:CDT
DTSTART:20230312T080000
END:DAYLIGHT
BEGIN:STANDARD
TZOFFSETFROM:-0500
TZOFFSETTO:-0600
TZNAME:CST
DTSTART:20231105T070000
END:STANDARD
BEGIN:DAYLIGHT
TZOFFSETFROM:-0600
TZOFFSETTO:-0500
TZNAME:CDT
DTSTART:20240310T080000
END:DAYLIGHT
BEGIN:STANDARD
TZOFFSETFROM:-0500
TZOFFSETTO:-0600
TZNAME:CST
DTSTART:20241103T070000
END:STANDARD
END:VTIMEZONE
BEGIN:VEVENT
DTSTART;VALUE=DATE:20241210
DTEND;VALUE=DATE:20241212
DTSTAMP:20260422T032119
CREATED:20240827T170926Z
LAST-MODIFIED:20250514T053440Z
UID:10000013-1733788800-1733961599@www.houstonsports.org
SUMMARY:Lombardi Award
DESCRIPTION:
URL:https://www.houstonsports.org/event/lombardi-award/
LOCATION:TX
CATEGORIES:Featured
ATTACH;FMTTYPE=image/png:https://www.houstonsports.org/wp-content/uploads/LA.png
END:VEVENT
BEGIN:VEVENT
DTSTART;VALUE=DATE:20241013
DTEND;VALUE=DATE:20241014
DTSTAMP:20260422T032119
CREATED:20240827T163323Z
LAST-MODIFIED:20250514T053313Z
UID:10000014-1728777600-1728863999@www.houstonsports.org
SUMMARY:El Clásico de México
DESCRIPTION:
URL:https://www.houstonsports.org/event/el-clasico-de-mexico/
LOCATION:NRG Stadium\, NRG Pkwy\, Houston\, TX\, 77054\, United States
CATEGORIES:Featured
ATTACH;FMTTYPE=image/png:https://www.houstonsports.org/wp-content/uploads/Untitled-3.png
END:VEVENT
BEGIN:VEVENT
DTSTART;VALUE=DATE:20240910
DTEND;VALUE=DATE:20240928
DTSTAMP:20260422T032119
CREATED:20240903T130021Z
LAST-MODIFIED:20250514T054638Z
UID:10000015-1725926400-1727481599@www.houstonsports.org
SUMMARY:Houston Sports Hall of Fame Class of 2025 Announcements
DESCRIPTION:
URL:https://www.houstonsports.org/event/houston-sports-hall-of-fame-class-of-2025-announcements/
LOCATION:TX
CATEGORIES:Featured
ATTACH;FMTTYPE=image/png:https://www.houstonsports.org/wp-content/uploads/HOF.png
END:VEVENT
BEGIN:VEVENT
DTSTART;TZID=America/Chicago:20240907T110000
DTEND;TZID=America/Chicago:20240909T150000
DTSTAMP:20260422T032119
CREATED:20240827T162907Z
LAST-MODIFIED:20250514T055026Z
UID:10000016-1725706800-1725894000@www.houstonsports.org
SUMMARY:Red Bull Show Run Houston
DESCRIPTION:Intermixed with all the action will be a special intermission showcase of Red Bull Turn It Up\, a DJ party battle between Bayou City-based DJ Mr. Rogers and LA’s very own DJ Hed. \nEvent Schedule: \n10:00 AM – Red Bull Fan Zone Opens12:00 PM – Start of Red Bull Showrun1:00 PM – Red Bull Turn It Up Intermission2:00 PM – End of Red Bull Showrun3:00 PM – Red Bull Fan Zone Closes
URL:https://www.houstonsports.org/event/red-bull-show-run-houston/
LOCATION:TX
CATEGORIES:Featured
ATTACH;FMTTYPE=image/jpeg:https://www.houstonsports.org/wp-content/uploads/Red-bul.jpg
END:VEVENT
BEGIN:VEVENT
DTSTART;VALUE=DATE:20240825
DTEND;VALUE=DATE:20240826
DTSTAMP:20260422T032119
CREATED:20240620T184445Z
LAST-MODIFIED:20250514T055238Z
UID:10000017-1724544000-1724630399@www.houstonsports.org
SUMMARY:National Battle of the Bands
DESCRIPTION:The National Battle of the Bands is on a mission to amplify the exposure of HBCUs and their marching bands\, highlighting the critical role they play in fostering aspiring musicians and shaping tomorrow’s leaders. To date\, event organizers have generated nearly $1.3 million in scholarships for participating colleges and universities. \nAudiences can look forward to awe-inspiring\, never-before-seen performances that will keep them returning for more exhilarating experiences year after year. \nAs the largest African American event in Texas\, the National Battle of the Bands has provided over $200\,000 in scholarships and generated a $20 million economic impact for Houston and Harris County. The 2022 NBOTB weekend saw more than 55\,000 attendees\, over 10\,000 participants in ancillary events\, and over 2\,200 participating band members.
URL:https://www.houstonsports.org/event/national-battle-of-the-bands/
LOCATION:NRG Stadium\, NRG Pkwy\, Houston\, TX\, 77054\, United States
CATEGORIES:Featured
ATTACH;FMTTYPE=image/jpeg:https://www.houstonsports.org/wp-content/uploads/Web-NBOTB-1.jpg
END:VEVENT
BEGIN:VEVENT
DTSTART;VALUE=DATE:20240814
DTEND;VALUE=DATE:20240815
DTSTAMP:20260422T032119
CREATED:20240731T163845Z
LAST-MODIFIED:20250514T055339Z
UID:10000018-1723593600-1723679999@www.houstonsports.org
SUMMARY:2024 Houston Sports Hall of Fame Day
DESCRIPTION:
URL:https://www.houstonsports.org/event/2024-houston-sports-hall-of-fame-day/
LOCATION:TX
CATEGORIES:Featured
ATTACH;FMTTYPE=image/jpeg:https://www.houstonsports.org/wp-content/uploads/hof-day.jpg
END:VEVENT
BEGIN:VEVENT
DTSTART;VALUE=DATE:20240704
DTEND;VALUE=DATE:20240705
DTSTAMP:20260422T032119
CREATED:20240131T194203Z
LAST-MODIFIED:20250514T060218Z
UID:10000019-1720051200-1720137599@www.houstonsports.org
SUMMARY:CONMEBOL Copa America
DESCRIPTION:
URL:https://www.houstonsports.org/event/conmebol-copa-america/
LOCATION:NRG Stadium\, NRG Pkwy\, Houston\, TX\, 77054\, United States
CATEGORIES:Featured
ATTACH;FMTTYPE=image/jpeg:https://www.houstonsports.org/wp-content/uploads/quarter-final.jpg
END:VEVENT
BEGIN:VEVENT
DTSTART;TZID=America/Chicago:20240630T150000
DTEND;TZID=America/Chicago:20240630T213000
DTSTAMP:20260422T032119
CREATED:20240528T160325Z
LAST-MODIFIED:20250514T060455Z
UID:10000020-1719759600-1719783000@www.houstonsports.org
SUMMARY:Copa America Watch Party
DESCRIPTION:Please note that outside alcohol is not permitted at the Watch Party. However\, the event itself is free of charge\, ensuring accessibility for all soccer enthusiasts and families. \nElevate your experience with a VIP Wristband$75 Per Wristband \nVIP wristband includes:3 Drink TicketsExclusive Shaded viewing area with cooling fans and private screensSmall bites provided by Goode Company \nClick here to purchase!
URL:https://www.houstonsports.org/event/copa-america-watch-party/
LOCATION:TX
CATEGORIES:Featured
ATTACH;FMTTYPE=image/jpeg:https://www.houstonsports.org/wp-content/uploads/Web-Watch-Party.jpg
END:VEVENT
BEGIN:VEVENT
DTSTART;VALUE=DATE:20240624
DTEND;VALUE=DATE:20240625
DTSTAMP:20260422T032119
CREATED:20240131T193902Z
LAST-MODIFIED:20250514T060611Z
UID:10000021-1719187200-1719273599@www.houstonsports.org
SUMMARY:CONMEBOL Copa America
DESCRIPTION:
URL:https://www.houstonsports.org/event/conmebol-copa-america-2/
LOCATION:NRG Stadium\, NRG Pkwy\, Houston\, TX\, 77054\, United States
CATEGORIES:Featured
ATTACH;FMTTYPE=image/jpeg:https://www.houstonsports.org/wp-content/uploads/cvp.jpg
END:VEVENT
BEGIN:VEVENT
DTSTART;VALUE=DATE:20240622
DTEND;VALUE=DATE:20240623
DTSTAMP:20260422T032119
CREATED:20240131T193238Z
LAST-MODIFIED:20250514T060707Z
UID:10000022-1719014400-1719100799@www.houstonsports.org
SUMMARY:CONMEBOL Copa America
DESCRIPTION:
URL:https://www.houstonsports.org/event/conmebol-copa-america-3/
LOCATION:NRG Stadium\, NRG Pkwy\, Houston\, TX\, 77054\, United States
CATEGORIES:Featured
ATTACH;FMTTYPE=image/jpeg:https://www.houstonsports.org/wp-content/uploads/mexico-v-Jamacia.jpg
END:VEVENT
BEGIN:VEVENT
DTSTART;VALUE=DATE:20240621
DTEND;VALUE=DATE:20240622
DTSTAMP:20260422T032119
CREATED:20240220T195239Z
LAST-MODIFIED:20250514T060801Z
UID:10000023-1718928000-1719014399@www.houstonsports.org
SUMMARY:2024 OLYMPIC & PARALYMPIC DAY
DESCRIPTION:
URL:https://www.houstonsports.org/event/2024-olympic-paralympic-day/
LOCATION:TX
CATEGORIES:Featured
ATTACH;FMTTYPE=image/jpeg:https://www.houstonsports.org/wp-content/uploads/Olympic-day.jpg
END:VEVENT
BEGIN:VEVENT
DTSTART;TZID=America/Chicago:20240422T090000
DTEND;TZID=America/Chicago:20240422T170000
DTSTAMP:20260422T032119
CREATED:20240307T204350Z
LAST-MODIFIED:20250514T061510Z
UID:10000024-1713776400-1713805200@www.houstonsports.org
SUMMARY:Chevron | Sports Authority Foundation Golf Classic
DESCRIPTION:Chevron | Sports Authority Foundation Golf Classic \nBenefitting HBCUs \nkey details \nDate: Monday\, April 22\, 2024Timing: 9:00 AMLocation: Nicklaus Course at The Club at Carlton WoodsFormat: ScramblePricing: $5\,000 per foursomeIncluded: Registered golfers will receive admission to The Chevron Championship (April 17-21) \npartnership opportunities \nKim ScatesSenior Director of Partnershipskscates@houstonsports.org
URL:https://www.houstonsports.org/event/chevron-sports-authority-foundation-golf-classic/
LOCATION:TX
CATEGORIES:Featured
ATTACH;FMTTYPE=image/jpeg:https://www.houstonsports.org/wp-content/uploads/Web-cover-1.jpg
END:VEVENT
BEGIN:VEVENT
DTSTART;TZID=America/Chicago:20240410T080000
DTEND;TZID=America/Chicago:20240415T130000
DTSTAMP:20260422T032119
CREATED:20240220T173710Z
LAST-MODIFIED:20250514T061644Z
UID:10000025-1712736000-1713186000@www.houstonsports.org
SUMMARY:2024 National and Junior Championship\, AWD Invitational
DESCRIPTION:
URL:https://www.houstonsports.org/event/2024-national-and-junior-championship-awd-invitational/
LOCATION:TX
CATEGORIES:Featured
ATTACH;FMTTYPE=image/jpeg:https://www.houstonsports.org/wp-content/uploads/Artistic-Swimming-copy.jpg
END:VEVENT
BEGIN:VEVENT
DTSTART;VALUE=DATE:20240328
DTEND;VALUE=DATE:20240329
DTSTAMP:20260422T032119
CREATED:20240131T201023Z
LAST-MODIFIED:20250514T061725Z
UID:10000026-1711584000-1711670399@www.houstonsports.org
SUMMARY:Houston Astros Home Opener
DESCRIPTION:
URL:https://www.houstonsports.org/event/houston-astros-home-opener/
LOCATION:Daikin Park\, 501 Crawford St\, Houston\, TX\, 77002
CATEGORIES:Featured
ATTACH;FMTTYPE=image/jpeg:https://www.houstonsports.org/wp-content/uploads/astros-home-opener.jpg
END:VEVENT
BEGIN:VEVENT
DTSTART;VALUE=DATE:20240227
DTEND;VALUE=DATE:20240318
DTSTAMP:20260422T032119
CREATED:20240131T202321Z
LAST-MODIFIED:20250501T114532Z
UID:10000027-1708992000-1710719999@www.houstonsports.org
SUMMARY:Houston Livestock Show and Rodeo
DESCRIPTION:
URL:https://www.houstonsports.org/event/houston-livestock-show-and-rodeo-2/
LOCATION:NRG Stadium\, NRG Pkwy\, Houston\, TX\, 77054\, United States
CATEGORIES:Featured
ATTACH;FMTTYPE=image/jpeg:https://www.houstonsports.org/wp-content/uploads/rodeo-1.jpg
END:VEVENT
BEGIN:VEVENT
DTSTART;VALUE=DATE:20240224
DTEND;VALUE=DATE:20240225
DTSTAMP:20260422T032119
CREATED:20240131T195513Z
LAST-MODIFIED:20250501T112505Z
UID:10000028-1708732800-1708819199@www.houstonsports.org
SUMMARY:Houston Dynamo Home Opener
DESCRIPTION:The Dynamo open the season\, powered by Shell Energy\, with three consecutive home matches at Shell Energy Stadium\, beginning with rivals Sporting Kansas City on Saturday\, Feb. 24 at 7:30 p.m. CT.
URL:https://www.houstonsports.org/event/houston-dynamo-home-opener/
LOCATION:Shell Energy Stadium\, 2200 Texas Ave\, Houston\, TX\, 77003
CATEGORIES:Featured
ATTACH;FMTTYPE=image/jpeg:https://www.houstonsports.org/wp-content/uploads/Dynamo-hope-opener.jpg
END:VEVENT
BEGIN:VEVENT
DTSTART;VALUE=DATE:20240222
DTEND;VALUE=DATE:20240229
DTSTAMP:20260422T032119
CREATED:20240131T191905Z
LAST-MODIFIED:20250514T062144Z
UID:10000029-1708560000-1709164799@www.houstonsports.org
SUMMARY:2024 W Concacaf Gold Cup
DESCRIPTION:Sunday\, February 25\nMatch 1: Prelims Winner 2 vs Costa Rica\nBUY NOW \nSunday\, February 25\nMatch 2: Paraguay vs Canada\nBUY NOW \nWednesday\, February 28\nMatch 1: Paraguay vs Prelims Winner 2\nBUY NOW \nWednesday\, February 28\nMatch 2: Canada vs Costa Rica\nBUY NOW
URL:https://www.houstonsports.org/event/2024-w-concacaf-gold-cup/
LOCATION:Shell Energy Stadium\, 2200 Texas Ave\, Houston\, TX\, 77003
CATEGORIES:Featured
ATTACH;FMTTYPE=image/jpeg:https://www.houstonsports.org/wp-content/uploads/Womens-Gold-Cup.jpg
END:VEVENT
BEGIN:VEVENT
DTSTART;TZID=America/Chicago:20230726T170000
DTEND;TZID=America/Chicago:20230726T170000
DTSTAMP:20260422T032119
CREATED:20220428T182635Z
LAST-MODIFIED:20250502T120021Z
UID:10000059-1690390800-1690390800@www.houstonsports.org
SUMMARY:COPA DE LONE STAR
DESCRIPTION:Two of the biggest teams in the Premier League and the Liga MX are coming to Houston! Be there for the first ever Copa de Lone Star on July 20th! \nFor more information and to purchase tickets\, CLICK HERE
URL:https://www.houstonsports.org/event/copa-de-lone-star/
LOCATION:NRG Stadium\, NRG Pkwy\, Houston\, TX\, 77054\, United States
CATEGORIES:Featured
ATTACH;FMTTYPE=image/jpeg:https://www.houstonsports.org/wp-content/uploads/COPA-DE-LONE-STAR-Image.jpg
END:VEVENT
BEGIN:VEVENT
DTSTART;VALUE=DATE:20230623
DTEND;VALUE=DATE:20230624
DTSTAMP:20260422T032119
CREATED:20230522T224024Z
LAST-MODIFIED:20250514T073542Z
UID:10000087-1687478400-1687564799@www.houstonsports.org
SUMMARY:2023 Olympic & Paralympic Day
DESCRIPTION:
URL:https://www.houstonsports.org/event/2023-olympic-paralympic-day/
LOCATION:TX
CATEGORIES:Featured
ATTACH;FMTTYPE=image/png:https://www.houstonsports.org/wp-content/uploads/Gold-Cup-Web.png
END:VEVENT
BEGIN:VEVENT
DTSTART;VALUE=DATE:20230401
DTEND;VALUE=DATE:20230402
DTSTAMP:20260422T032119
CREATED:20200407T002546Z
LAST-MODIFIED:20250514T073555Z
UID:10000065-1680307200-1680393599@www.houstonsports.org
SUMMARY:NCAA MEN’S DIVISION I BASKETBALL FINAL FOUR
DESCRIPTION:
URL:https://www.houstonsports.org/event/ncaa-mens-division-i-basketball-final-four/
LOCATION:NRG Stadium\, NRG Pkwy\, Houston\, TX\, 77054\, United States
CATEGORIES:Featured
ATTACH;FMTTYPE=image/jpeg:https://www.houstonsports.org/wp-content/uploads/NCAA-MENS-DIVISION-I-BASKETBALL-FINAL-FOUR-Image-1.jpg
END:VEVENT
BEGIN:VEVENT
DTSTART;TZID=America/Chicago:20220913T140000
DTEND;TZID=America/Chicago:20220913T170000
DTSTAMP:20260422T032119
CREATED:20220906T162555Z
LAST-MODIFIED:20250505T055404Z
UID:10000088-1663077600-1663088400@www.houstonsports.org
SUMMARY:2022 Hall of Fame Day
DESCRIPTION:
URL:https://www.houstonsports.org/event/2022-hall-of-fame-day/
LOCATION:TX
CATEGORIES:Featured
ATTACH;FMTTYPE=image/jpeg:https://www.houstonsports.org/wp-content/uploads/2022-Hall-of-Fame-Day-Image.jpg
END:VEVENT
BEGIN:VEVENT
DTSTART;TZID=America/Chicago:20220623T080000
DTEND;TZID=America/Chicago:20220623T170000
DTSTAMP:20260422T032119
CREATED:20220512T222231Z
LAST-MODIFIED:20250514T074134Z
UID:10000096-1655971200-1656003600@www.houstonsports.org
SUMMARY:2022 Olympic & Paralympic Day
DESCRIPTION:Olympic & Paralympic Day presented by Toyota is a celebration of the Olympic & Paralympic movements and the joy of sport by millions of people around the world. Held annually on June 23 and known worldwide as Olympic Day\, the USOPC worked in partnership with the International Olympic Committee and International Paralympic Committee to recognize the day as Olympic & Paralympic Day in the United States\, beginning in 2020. The day celebrates fitness\, well-being\, sport culture and educational opportunities\, while promoting the Olympic values of excellence\, friendship and respect\, and the Paralympic values of determination\, inspiration\, courage and equality.
URL:https://www.houstonsports.org/event/2022-olympic-paralympic-day/
LOCATION:TX
CATEGORIES:Featured
ATTACH;FMTTYPE=image/png:https://www.houstonsports.org/wp-content/uploads/ODAY-Web.png
END:VEVENT
BEGIN:VEVENT
DTSTART;VALUE=DATE:20220510
DTEND;VALUE=DATE:20220514
DTSTAMP:20260422T032119
CREATED:20220107T170554Z
LAST-MODIFIED:20250514T074134Z
UID:10000097-1652140800-1652486399@www.houstonsports.org
SUMMARY:NCAA Division III NCAA Womens Golf
DESCRIPTION:
URL:https://www.houstonsports.org/event/ncaa-division-iii-ncaa-womens-golf/
LOCATION:TX
CATEGORIES:Featured
ATTACH;FMTTYPE=image/jpeg:https://www.houstonsports.org/wp-content/uploads/NCAA-Division-III-NCAA-Womens-Golf-Image.jpg
END:VEVENT
BEGIN:VEVENT
DTSTART;TZID=America/Chicago:20210921T160000
DTEND;TZID=America/Chicago:20210921T180000
DTSTAMP:20260422T032119
CREATED:20210831T170135Z
LAST-MODIFIED:20250514T074401Z
UID:10000086-1632240000-1632247200@www.houstonsports.org
SUMMARY:Hall of Fame Day
DESCRIPTION:Location: GreenStreet- 1201 Fannin Street \nParking: 1320 Fannin Street (parking garage map below) \nAttire: Business Casual
URL:https://www.houstonsports.org/event/hall-of-fame-day/
LOCATION:TX
CATEGORIES:Featured
ATTACH;FMTTYPE=image/jpeg:https://www.houstonsports.org/wp-content/uploads/Hall-of-Fame-Day-Image.jpg
END:VEVENT
BEGIN:VEVENT
DTSTART;TZID=America/Chicago:20210829T160000
DTEND;TZID=America/Chicago:20210829T160000
DTSTAMP:20260422T032119
CREATED:20210614T195135Z
LAST-MODIFIED:20250514T074515Z
UID:10000062-1630252800-1630252800@www.houstonsports.org
SUMMARY:2021 Cracker Barrel National Battle of the Bands presented by Pepsi Zero Sugar
DESCRIPTION:
URL:https://www.houstonsports.org/event/2021-cracker-barrel-national-battle-of-the-bands-presented-by-pepsi-zero-sugar/
LOCATION:NRG Stadium\, NRG Pkwy\, Houston\, TX\, 77054\, United States
CATEGORIES:Featured
ATTACH;FMTTYPE=image/jpeg:https://www.houstonsports.org/wp-content/uploads/BOB-Image.jpg
END:VEVENT
BEGIN:VEVENT
DTSTART;VALUE=DATE:20210729
DTEND;VALUE=DATE:20210730
DTSTAMP:20260422T032119
CREATED:20210513T182021Z
LAST-MODIFIED:20250514T074601Z
UID:10000063-1627516800-1627603199@www.houstonsports.org
SUMMARY:CONCACAF GOLD CUP SEMIFINALS
DESCRIPTION:
URL:https://www.houstonsports.org/event/concacaf-gold-cup-semifinals/
LOCATION:NRG Stadium\, NRG Pkwy\, Houston\, TX\, 77054\, United States
CATEGORIES:Featured
ATTACH;FMTTYPE=image/jpeg:https://www.houstonsports.org/wp-content/uploads/Gold-Cup-Semi-Final-Matcheng.jpg
END:VEVENT
BEGIN:VEVENT
DTSTART;VALUE=DATE:20210528
DTEND;VALUE=DATE:20210606
DTSTAMP:20260422T032119
CREATED:20250505T061620Z
LAST-MODIFIED:20250514T075159Z
UID:10000093-1622160000-1622937599@www.houstonsports.org
SUMMARY:2021 5K AnyWay
DESCRIPTION:View full release HERE \nWhat is a 5K AnyWay?\nIt’s a unique opportunity for you to complete a 5K AnyWay you like!  Run\, walk\, swim\, bike\, row – the option is yours! Complete your activity anytime from Saturday\, May 28th through Friday\, June 5th. After finishing your 5K post your time on the link provided and watch as we make our way around the world! We just ask that you have fun\, share pictures of your adventure and help us spread the word of the importance of transplant donors. \nPlease visit wtg2021.com to read more about how to participate in the ‘5K Anyway”
URL:https://www.houstonsports.org/event/2021-5k-anyway/
LOCATION:TX
CATEGORIES:Featured
ATTACH;FMTTYPE=image/png:https://www.houstonsports.org/wp-content/uploads/2021-5K-AnyWay-Image.png
END:VEVENT
BEGIN:VEVENT
DTSTART;TZID=America/Chicago:20210426T180000
DTEND;TZID=America/Chicago:20210426T180000
DTSTAMP:20260422T032119
CREATED:20201215T160106Z
LAST-MODIFIED:20250514T075209Z
UID:10000095-1619460000-1619460000@www.houstonsports.org
SUMMARY:Houston Sports Awards
DESCRIPTION:
URL:https://www.houstonsports.org/event/houston-sports-awards-2/
LOCATION:TX
CATEGORIES:Featured
ATTACH;FMTTYPE=image/png:https://www.houstonsports.org/wp-content/uploads/Houston-Sports-Awards-Image.png
END:VEVENT
BEGIN:VEVENT
DTSTART;VALUE=DATE:20201210
DTEND;VALUE=DATE:20201214
DTSTAMP:20260422T032119
CREATED:20200213T033209Z
LAST-MODIFIED:20250514T075405Z
UID:10000089-1607558400-1607903999@www.houstonsports.org
SUMMARY:U.S. WOMEN’S OPEN
DESCRIPTION:
URL:https://www.houstonsports.org/event/u-s-womens-open/
LOCATION:TX
CATEGORIES:Featured
ATTACH;FMTTYPE=image/jpeg:https://www.houstonsports.org/wp-content/uploads/U.S.-WOMENS-OPEN-Image.jpg
END:VEVENT
BEGIN:VEVENT
DTSTART;VALUE=DATE:20200409
DTEND;VALUE=DATE:20200410
DTSTAMP:20260422T032119
CREATED:20200408T053632Z
LAST-MODIFIED:20250514T075636Z
UID:10000085-1586390400-1586476799@www.houstonsports.org
SUMMARY:Q’D UP. PREMIERE – 7 PM
DESCRIPTION:
URL:https://www.houstonsports.org/event/qd-up-premiere-7-pm/
LOCATION:TX
CATEGORIES:Featured
ATTACH;FMTTYPE=image/png:https://www.houstonsports.org/wp-content/uploads/thumbnail-Qd-Up-Logo-Horizontal-Transparent.png
END:VEVENT
END:VCALENDAR